BEGIN:VCALENDAR
PRODID:-//kirchenweb.ch gmbh//veranstaltungsausgabe v2.0//DE
VERSION:2.0
METHOD:PUBLISH
BEGIN:VEVENT
DTSTART:20260412T090000Z
DTEND:20260412T100000Z
LOCATION:Bergkirche Neunkirch\, Oberwiesstr. 20\, 8213 Neunkirch
TRANSP:OPAQUE
SEQUENCE:0
UID:195593-veranstaltung@ref-sh.ch
DTSTAMP:20260224T084720Z
DESCRIPTION:Kontakt: Eva Baumgardt\n\nWeitere Infos:
  https://www.ref-sh.ch/veranstaltung/195593
SUMMARY:Kirchencafé
PRIORITY:5
X-MICROSOFT-CDO-IMPORTANCE:1
CLASS:PUBLIC
END:VEVENT
END:VCALENDAR
