BEGIN:VCALENDAR
PRODID:-//kirchenweb.ch gmbh//veranstaltungsausgabe v2.0//DE
VERSION:2.0
METHOD:PUBLISH
BEGIN:VEVENT
DTSTART:20261115T130000Z
DTEND:20261115T190000Z
LOCATION:Kirche Merishausen\, Kirchgasse \, 8232 Merishausen
TRANSP:OPAQUE
SEQUENCE:0
UID:195572-veranstaltung@ref-sh.ch
DTSTAMP:20260221T163023Z
DESCRIPTION:Kontakt: Brigitta Hinterberger\n\nWeitere Infos:
  https://www.ref-sh.ch/veranstaltung/195572
SUMMARY:Konzert Frauenchor Hemmental
PRIORITY:5
X-MICROSOFT-CDO-IMPORTANCE:1
CLASS:PUBLIC
END:VEVENT
END:VCALENDAR
