BEGIN:VCALENDAR
PRODID:-//kirchenweb.ch gmbh//veranstaltungsausgabe v2.0//DE
VERSION:2.0
METHOD:PUBLISH
BEGIN:VEVENT
DTSTART:20270217T073000Z
DTEND:20270217T100000Z
LOCATION:Pfarrhaus\, Hammermauer 17\, 8215 Hallau
TRANSP:OPAQUE
SEQUENCE:0
UID:195569-veranstaltung@ref-sh.ch
DTSTAMP:20260220T222451Z
DESCRIPTION:Kontakt: Pfrn. Wiebke Suter\n\nWeitere Infos:
  https://www.ref-sh.ch/veranstaltung/195569
SUMMARY:Klettgauer Kapitel
PRIORITY:5
X-MICROSOFT-CDO-IMPORTANCE:1
CLASS:PUBLIC
END:VEVENT
END:VCALENDAR
