BEGIN:VCALENDAR
PRODID:-//kirchenweb.ch gmbh//veranstaltungsausgabe v2.0//DE
VERSION:2.0
METHOD:PUBLISH
BEGIN:VEVENT
DTSTART:20270408T063000Z
DTEND:20270408T090000Z
LOCATION:Schleitheim\, Gemeindestube\, Kirchgasse 8\, 8226 Schleitheim
TRANSP:OPAQUE
SEQUENCE:0
UID:195560-veranstaltung@ref-sh.ch
DTSTAMP:20260219T213000Z
DESCRIPTION:Kontakt: Pfr. Heinz Dutler\n\nWeitere Infos:
  https://www.ref-sh.ch/veranstaltung/195560
SUMMARY:Klettgauer Kapitel
PRIORITY:5
X-MICROSOFT-CDO-IMPORTANCE:1
CLASS:PUBLIC
END:VEVENT
END:VCALENDAR
