BEGIN:VCALENDAR
PRODID:-//kirchenweb.ch gmbh//veranstaltungsausgabe v2.0//DE
VERSION:2.0
METHOD:PUBLISH
BEGIN:VEVENT
DTSTART:20260314T073000Z
DTEND:20260314T080000Z
LOCATION:Pfarrhaussaal\, Im Chloster 1\, 8214 Gächlingen
TRANSP:OPAQUE
SEQUENCE:0
UID:195559-veranstaltung@ref-sh.ch
DTSTAMP:20260219T191002Z
DESCRIPTION:Kontakt: werner.naef@ref-sh.ch\n\nWeitere Infos:
  https://www.ref-sh.ch/veranstaltung/195559
SUMMARY:Kafi - Gipfeli  Brötli
PRIORITY:5
X-MICROSOFT-CDO-IMPORTANCE:1
CLASS:PUBLIC
END:VEVENT
END:VCALENDAR
