BEGIN:VCALENDAR
PRODID:-//kirchenweb.ch gmbh//veranstaltungsausgabe v2.0//DE
VERSION:2.0
METHOD:PUBLISH
BEGIN:VEVENT
DTSTART:20261220T090000Z
DTEND:20261220T100000Z
LOCATION:KGH Hüntwangen\, Vorderer Kirchweg 10\, 8194 Hüntwangen
TRANSP:OPAQUE
SEQUENCE:0
UID:195451-veranstaltung@ref-sh.ch
DTSTAMP:20260218T141403Z
DESCRIPTION:Kontakt: ulrike.haas@ref-sh.ch\n\nWeitere Infos:
  https://www.ref-sh.ch/veranstaltung/195451
SUMMARY:GD WHW
PRIORITY:5
X-MICROSOFT-CDO-IMPORTANCE:1
CLASS:PUBLIC
END:VEVENT
END:VCALENDAR
