BEGIN:VCALENDAR
PRODID:-//kirchenweb.ch gmbh//veranstaltungsausgabe v2.0//DE
VERSION:2.0
METHOD:PUBLISH
BEGIN:VEVENT
DTSTART:20260801T080000Z
DTEND:20260801T090000Z
LOCATION:Reformierte Kirche Wil ZH\, Obere Haldenstrasse\, 8196 Wil ZH
TRANSP:OPAQUE
SEQUENCE:0
UID:195449-veranstaltung@ref-sh.ch
DTSTAMP:20260415T204523Z
DESCRIPTION:➜
  &nbsp;https://www.ref-sh.ch/_kirchenweb/?g=cantemus.handel26\n\nKontakt:
  ulrike.haas@ref-sh.ch\n\nWeitere Infos:
  https://www.ref-sh.ch/veranstaltung/195449
SUMMARY:Augustfeier Wil ???
PRIORITY:5
X-MICROSOFT-CDO-IMPORTANCE:1
CLASS:PUBLIC
END:VEVENT
END:VCALENDAR
