BEGIN:VCALENDAR
PRODID:-//kirchenweb.ch gmbh//veranstaltungsausgabe v2.0//DE
VERSION:2.0
METHOD:PUBLISH
BEGIN:VEVENT
DTSTART;VALUE=DATE:20260701
DTEND;VALUE=DATE:20260702
LOCATION:\, \,
TRANSP:OPAQUE
SEQUENCE:0
UID:195360-veranstaltung@ref-sh.ch
DTSTAMP:20260414T123408Z
DESCRIPTION:Ausflug ins Rosendorf Nöggenschwiel\n\nNach einer
  abwechslungsreichen Fahrt durch den Südschwarzwald besuchen wir nach dem
  Mittagessen das Rosendorf Nöggenschwiel. Im höchstgelegene Rosendorf im
  Schwarzwald sind unzählige Rosenstöcke in den unterschiedlichsten Arten
  und Sorten zu sehen. Das Rosendorf lässt sich wunderbar bei einem
  Spaziergang in eigenem Tempo erkunden. So hat man Zeit den wunderbaren
  Düften zu folgen und die herrlichen Farben zu genießen. \n\nAbfahrt: \n
 \n10.30 Uhr Krummacker\n10.35 Uhr La Résidence\n10.50 Uhr Lohn Kreuz
 \n11.00 Uhr Herblingen\, Restaurant Hirschen\n\nKosten:	Fr. 70.- für die
  Fahrt mit dem Rattincar\, Mittagessen ohne Getränke \n\nWir freuen uns
  auf einen tollen Ausflug mit Euch/Ihnen und hoffen auf einen schönen Tag
  \n\nDorothe Felix\, Pfarrerin\nBéatrice Zingg\, Mitarbeiterin
  Sozialdiakonie\n\n\nKontakt: Béatrice Zingg\, Kirchgemeindehaus\,
  Trüllenbuck 61\, 8207 Schaffhausen\nTel. 052 643 15 90\n\nWeitere Infos:
  https://www.ref-sh.ch/veranstaltung/195360
SUMMARY:Ausflug ins Rosendorf Nöggenschwiel
PRIORITY:5
X-MICROSOFT-CDO-IMPORTANCE:1
CLASS:PUBLIC
END:VEVENT
END:VCALENDAR
