BEGIN:VCALENDAR
PRODID:-//kirchenweb.ch gmbh//veranstaltungsausgabe v2.0//DE
VERSION:2.0
METHOD:PUBLISH
BEGIN:VEVENT
DTSTART:20260314T080000Z
DTEND:20260314T100000Z
LOCATION:Landi und Coop\, 8226 Schleitheim\, \,
TRANSP:OPAQUE
SEQUENCE:0
UID:195340-veranstaltung@ref-sh.ch
DTSTAMP:20260318T082235Z
DESCRIPTION:Teenager verkaufen Fairtrade-Rosen für eine Spende von 5 Sfr.
  zugunsten von Hilfsprojekten von HEKS und Fastenaktion.\n\nKontakt: Pfr.
  Heinz Dutler\n\nWeitere Infos: https://www.ref-sh.ch/veranstaltung/195340
SUMMARY:Rosenaktion mit Jugendlichen
PRIORITY:5
X-MICROSOFT-CDO-IMPORTANCE:1
CLASS:PUBLIC
END:VEVENT
END:VCALENDAR
