BEGIN:VCALENDAR
PRODID:-//kirchenweb.ch gmbh//veranstaltungsausgabe v2.0//DE
VERSION:2.0
METHOD:PUBLISH
BEGIN:VEVENT
DTSTART:20261101T083000Z
DTEND:20261101T093000Z
LOCATION:Reformierte Kirche Rafz\, Chilegass 2\, 8197 Rafz
TRANSP:OPAQUE
SEQUENCE:0
UID:195319-veranstaltung@ref-sh.ch
DTSTAMP:20260211T152917Z
DESCRIPTION:Kontakt: ulrike.haas@ref-sh.ch\n\nWeitere Infos:
  https://www.ref-sh.ch/veranstaltung/195319
SUMMARY:Reformationsgottesdienst
PRIORITY:5
X-MICROSOFT-CDO-IMPORTANCE:1
CLASS:PUBLIC
END:VEVENT
END:VCALENDAR
