BEGIN:VCALENDAR
PRODID:-//kirchenweb.ch gmbh//veranstaltungsausgabe v2.0//DE
VERSION:2.0
METHOD:PUBLISH
BEGIN:VEVENT
DTSTART:20261027T183000Z
DTEND:20261027T193000Z
LOCATION:Casa Rafz\, Dorfstrasse 9\, 8197 Rafz
TRANSP:OPAQUE
SEQUENCE:0
UID:195318-veranstaltung@ref-sh.ch
DTSTAMP:20260211T152823Z
DESCRIPTION:Kontakt: ulrike.haas@ref-sh.ch\n\nWeitere Infos:
  https://www.ref-sh.ch/veranstaltung/195318
SUMMARY:Probe
PRIORITY:5
X-MICROSOFT-CDO-IMPORTANCE:1
CLASS:PUBLIC
END:VEVENT
END:VCALENDAR
