BEGIN:VCALENDAR
PRODID:-//kirchenweb.ch gmbh//veranstaltungsausgabe v2.0//DE
VERSION:2.0
METHOD:PUBLISH
BEGIN:VEVENT
DTSTART;VALUE=DATE:20261017
DTEND;VALUE=DATE:20261018
LOCATION:Reformierte Kirche Wil ZH\, Obere Haldenstrasse\, 8196 Wil ZH
TRANSP:OPAQUE
SEQUENCE:0
UID:195315-veranstaltung@ref-sh.ch
DTSTAMP:20260211T151007Z
DESCRIPTION:Kontakt: ulrike.haas@ref-sh.ch\n\nWeitere Infos:
  https://www.ref-sh.ch/veranstaltung/195315
SUMMARY:Konzert Messias
PRIORITY:5
X-MICROSOFT-CDO-IMPORTANCE:1
CLASS:PUBLIC
END:VEVENT
END:VCALENDAR
