BEGIN:VCALENDAR
PRODID:-//kirchenweb.ch gmbh//veranstaltungsausgabe v2.0//DE
VERSION:2.0
METHOD:PUBLISH
BEGIN:VEVENT
DTSTART:20260922T173000Z
DTEND:20260922T183000Z
LOCATION:Casa Rafz\, Dorfstrasse 9\, 8197 Rafz
TRANSP:OPAQUE
SEQUENCE:0
UID:195312-veranstaltung@ref-sh.ch
DTSTAMP:20260415T204634Z
DESCRIPTION:➜
  &nbsp;https://www.ref-sh.ch/_kirchenweb/?g=cantemus.handel26\n\nKontakt:
  ulrike.haas@ref-sh.ch\n\nWeitere Infos:
  https://www.ref-sh.ch/veranstaltung/195312
SUMMARY:Probe
PRIORITY:5
X-MICROSOFT-CDO-IMPORTANCE:1
CLASS:PUBLIC
END:VEVENT
END:VCALENDAR
