BEGIN:VCALENDAR
PRODID:-//kirchenweb.ch gmbh//veranstaltungsausgabe v2.0//DE
VERSION:2.0
METHOD:PUBLISH
BEGIN:VEVENT
DTSTART:20260414T173000Z
DTEND:20260414T183000Z
LOCATION:Casa Rafz\, Dorfstrasse 9\, 8197 Rafz
TRANSP:OPAQUE
SEQUENCE:0
UID:195296-veranstaltung@ref-sh.ch
DTSTAMP:20260414T151318Z
DESCRIPTION:Kontakt: ulrike.haas@ref-sh.ch\n\nWeitere Infos:
  https://www.ref-sh.ch/veranstaltung/195296
SUMMARY:Probe
PRIORITY:5
X-MICROSOFT-CDO-IMPORTANCE:1
CLASS:PUBLIC
END:VEVENT
END:VCALENDAR
