BEGIN:VCALENDAR
PRODID:-//kirchenweb.ch gmbh//veranstaltungsausgabe v2.0//DE
VERSION:2.0
METHOD:PUBLISH
BEGIN:VEVENT
DTSTART:20260518T173000Z
DTEND:20260518T190000Z
LOCATION:Kirche Osterfingen\, Dorfstrasse 78\, 8218 Osterfingen
TRANSP:OPAQUE
SEQUENCE:0
UID:195275-veranstaltung@ref-sh.ch
DTSTAMP:20260211T101222Z
DESCRIPTION:Kontakt: karin.stoessel@ref-sh.ch\n\nWeitere Infos:
  https://www.ref-sh.ch/veranstaltung/195275
SUMMARY:Chor
PRIORITY:5
X-MICROSOFT-CDO-IMPORTANCE:1
CLASS:PUBLIC
END:VEVENT
END:VCALENDAR
