BEGIN:VCALENDAR
PRODID:-//kirchenweb.ch gmbh//veranstaltungsausgabe v2.0//DE
VERSION:2.0
METHOD:PUBLISH
BEGIN:VEVENT
DTSTART;VALUE=DATE:20260513
DTEND;VALUE=DATE:20260514
LOCATION:\, \,
TRANSP:OPAQUE
SEQUENCE:0
UID:195233-veranstaltung@ref-sh.ch
DTSTAMP:20260217T084544Z
DESCRIPTION:Tagesausflug zu den Heilpflanzengärten von A. Vogel\, Roggwil
 \n\nUnser Tagesausflug führt uns dem Rhein und Untersee entlang nach
  Mannebach\, wo im Seehotel Schiff Kaffee und Gipfeli auf uns warten. Dem
  Bodensee entlang geht es weiter nach Romanshorn. Das Mittagessen
  geniessen wir im Restaurant Hafen\, das direkt bei der Anlagestelle der
  Bodensee-Fähren liegt. Am Nachmittag besuchen wir die Firma A. Vogel in
  Roggwil\, wo wir Spannendes über Heilpflanzen und deren Verarbeitung
  erfahren.\n\nAbfahrt:      \n \n     8.15 Uhr Krummacker\n     8.20 Uhr
  La Résidence\n     8.35 Uhr Lohn\, Bushaltestelle Kreuz\n     8.45 Uhr
  Schaffhausen\, Restaurant Hirschen\n\nKosten:	Fr. 95.- für die Fahrt mit
  dem Rattincar\, Kaffee und Gipfeli\, Mittagessen ohne Getränke\,
  Führung A. Vogel.\n\nWir freuen uns auf einen tollen Ausflug mit
  Euch/Ihnen und hoffen auf einen schönen Tag\n.\nDorothe Felix\,
  Pfarrerin\nBéatrice Zingg\, Mitarbeiterin Sozialdiakonie\nVreni Schaer\,
  Pflegefachfrau\n\n\n\nKontakt: Béatrice Zingg\, Kirchgemeindehaus\,
  Trüllenbuck 61\, 8207 Schaffhausen\nTel. 052 643 15 90\n\nWeitere Infos:
  https://www.ref-sh.ch/veranstaltung/195233
SUMMARY:Ausflug zu den Heilpflanzengärten von A. Vogel\, Roggwil
PRIORITY:5
X-MICROSOFT-CDO-IMPORTANCE:1
CLASS:PUBLIC
END:VEVENT
END:VCALENDAR
