BEGIN:VCALENDAR
PRODID:-//kirchenweb.ch gmbh//veranstaltungsausgabe v2.0//DE
VERSION:2.0
METHOD:PUBLISH
BEGIN:VEVENT
DTSTART:20261030T150000Z
DTEND:20261030T170000Z
LOCATION:Vor dem Volg - Laden\, Gächlingen \, \,
TRANSP:OPAQUE
SEQUENCE:0
UID:195226-veranstaltung@ref-sh.ch
DTSTAMP:20260210T200843Z
DESCRIPTION:Kinder und Jugendliche helfen mit\, Päckli für bedürftige
  Menschen in Osteuropa zu packen. Von 16.00-18.00 Uhr sind sie vor dem
  Volg-Laden Gächlingen und nehmen Beiträge in Form von Geldspenden oder
  Materialspenden entgegen. An Materialspenden benötigen wir vor allem
  gestrickte Mützen\, Handschuhe\, Socken oder Schals sowie gut erhaltene
  kleine Spielsachen\, Mal- oder Filzstifte und Kugelschreiber.\n\nMehr
  Informationen: http://www.weihnachtspaeckli.ch\n\n\nKontakt: Marianne
  Näf-Bräker\n\nWeitere Infos: https://www.ref-sh.ch/veranstaltung/195226
SUMMARY:Aktion Weihnachtspäckli
PRIORITY:5
X-MICROSOFT-CDO-IMPORTANCE:1
CLASS:PUBLIC
END:VEVENT
END:VCALENDAR
