BEGIN:VCALENDAR
PRODID:-//kirchenweb.ch gmbh//veranstaltungsausgabe v2.0//DE
VERSION:2.0
METHOD:PUBLISH
BEGIN:VEVENT
DTSTART:20260605T130000Z
DTEND:20260605T140000Z
LOCATION:Kirche\, Kirchstrasse 8\, 8214 Gächlingen
TRANSP:OPAQUE
SEQUENCE:0
UID:195225-veranstaltung@ref-sh.ch
DTSTAMP:20260213T124350Z
DESCRIPTION:Kontakt: jessica.habluetzel@ref-sh.ch\n\nWeitere Infos:
  https://www.ref-sh.ch/veranstaltung/195225
SUMMARY:Fiire mit de Chliine
PRIORITY:5
X-MICROSOFT-CDO-IMPORTANCE:1
CLASS:PUBLIC
END:VEVENT
END:VCALENDAR
