BEGIN:VCALENDAR
PRODID:-//kirchenweb.ch gmbh//veranstaltungsausgabe v2.0//DE
VERSION:2.0
METHOD:PUBLISH
BEGIN:VEVENT
DTSTART:20260327T130000Z
DTEND:20260327T140000Z
LOCATION:Gemeindehaussaal Hallau\, \,
TRANSP:OPAQUE
SEQUENCE:0
UID:195221-veranstaltung@ref-sh.ch
DTSTAMP:20260317T073056Z
DESCRIPTION:Im Rahmen eines regionalen Seniorennachmittags der
  Kirchgemeinden Hallau\, Oberhallau\, Gächlingen und Neunkirch
  präsentiert das Ensemble des Seniorentheaters Hallau sein aktuelles
  Stück.\n\n«Theääterle macht Fröid »\n\nEin Lustspiel in einem Akt
  von Claudia Gysel - Regie: Hans Beyeler\n\nSpieldauer: 1 Stunde Der
  Eintritt ist frei.\nIm Anschluss an die Vorstellung offerieren wir Kuchen
  und Getränke zum «Zvieri».\n\nKontakt: manuela.baumann@ref-sh.ch\n
 \nWeitere Infos: https://www.ref-sh.ch/veranstaltung/195221
SUMMARY:Seniorennachmittag
PRIORITY:5
X-MICROSOFT-CDO-IMPORTANCE:1
CLASS:PUBLIC
END:VEVENT
END:VCALENDAR
