BEGIN:VCALENDAR
PRODID:-//kirchenweb.ch gmbh//veranstaltungsausgabe v2.0//DE
VERSION:2.0
METHOD:PUBLISH
BEGIN:VEVENT
DTSTART:20260227T180000Z
DTEND:20260227T210000Z
LOCATION:Mesmerhuus\, Kloster 14\, 8224 Löhningen
TRANSP:OPAQUE
SEQUENCE:0
UID:195203-veranstaltung@ref-sh.ch
DTSTAMP:20260210T163004Z
DESCRIPTION:An diesem Abend werden wir TC haben\, es sind jedoch noch
  keine Infos bekannt.\n\nNimm sicher deine Freunde und Freude mit.\n\n
 \nWir versenden vor jedem TC genauere Informationen über einen dieser
  Kanäle:\nhttp://www.ref-sh.ch/gruppe/tc-info
 \nhttps://chat.whatsapp.com/Ce8rHfzVxHk090YHbRfU8o
 \nhttps://www.instagram.com/teensclubchlaeggi/\n\nDie Nächsten
  Teenagerclub Termine sind hier auffindbar:
 \nhttps://www.ref-sh.ch/kg/jungschi/agenda-tc\n\n\n\nKontakt: Samuel Hafen
 \n\nWeitere Infos: https://www.ref-sh.ch/veranstaltung/195203
SUMMARY:Teenager-Club
PRIORITY:5
X-MICROSOFT-CDO-IMPORTANCE:1
CLASS:PUBLIC
END:VEVENT
END:VCALENDAR
