BEGIN:VCALENDAR
PRODID:-//kirchenweb.ch gmbh//veranstaltungsausgabe v2.0//DE
VERSION:2.0
METHOD:PUBLISH
BEGIN:VEVENT
DTSTART:20261107T170000Z
DTEND:20261107T190000Z
LOCATION:NACHBAR Stahlgiesserei\, zur Stahlgiesserei 15b\, 8200
  Schaffhausen
TRANSP:OPAQUE
SEQUENCE:0
UID:195190-veranstaltung@ref-sh.ch
DTSTAMP:20260209T163023Z
DESCRIPTION:SOULTRACES in der
  https://nachbar-stahlgiesserei.ch/events/wieder-in-der-stadt/Stahlgiesser
 ei live geniessen.\n\nEin paar Drinks an der Bar\, gute Musik\, tolle
  Leute oder vielleicht ein zufälliges Gespräch…\n\nDu bist herzlich
  willkommen\, nimm deine engsten gerne mit und wir freuen uns auf euch!\n
 \nKontakt: Marianne Lehmann\, Sängerin Soultraces\n\nWeitere Infos:
  https://www.ref-sh.ch/veranstaltung/195190
SUMMARY:Accustic Pop Soultraces Konzert
PRIORITY:5
X-MICROSOFT-CDO-IMPORTANCE:1
CLASS:PUBLIC
END:VEVENT
END:VCALENDAR
