BEGIN:VCALENDAR
PRODID:-//kirchenweb.ch gmbh//veranstaltungsausgabe v2.0//DE
VERSION:2.0
METHOD:PUBLISH
BEGIN:VEVENT
DTSTART:20260429T170000Z
DTEND:20260429T180000Z
LOCATION:Mesmerhuus\, Chirchhofplatz\, 8260 Stein am Rhein
TRANSP:OPAQUE
SEQUENCE:0
UID:195146-veranstaltung@ref-sh.ch
DTSTAMP:20260206T163012Z
DESCRIPTION:Bericht von einem Landwirtschaftsbetrieb in Brandenburg von
  Dorothee Pfister\n\nKontakt: \n\n\nWeitere Infos:
  https://www.ref-sh.ch/veranstaltung/195146
SUMMARY:HORIZONTE
PRIORITY:5
X-MICROSOFT-CDO-IMPORTANCE:1
CLASS:PUBLIC
END:VEVENT
END:VCALENDAR
