BEGIN:VCALENDAR
PRODID:-//kirchenweb.ch gmbh//veranstaltungsausgabe v2.0//DE
VERSION:2.0
METHOD:PUBLISH
BEGIN:VEVENT
DTSTART:20260319T133000Z
DTEND:20260319T150000Z
LOCATION:HofAckerZentrum\, Alpenstrasse 176\, 8203 Schaffhausen
TRANSP:OPAQUE
SEQUENCE:0
UID:195119-veranstaltung@ref-sh.ch
DTSTAMP:20260205T163006Z
DESCRIPTION:Das Seniorentheater Hallau unterhält uns diesmal mit dem
  Schwank «Romeo und Julia von W. Shakespeare». Wer nun aber die
  klassische Komödie aus der Feder des grossen englischen Autoren erwartet
  irrt. Die Seniorinnen und Senioren aus Hallau führen dieses Mal nicht
  nur das Publikum sondern auch den eigenen Regisseur an der Nase herum.
  Lassen Sie sich überraschen!\nAnstelle eines Zvieri im Anschluss
  offerieren wir einen Snack beim Einlass.\nEintritt: 5 Franken. \n
 \nKontakt: Adriana Di Cesare\n\nWeitere Infos:
  https://www.ref-sh.ch/veranstaltung/195119
SUMMARY:Romeo und Julia aus Hallau
PRIORITY:5
X-MICROSOFT-CDO-IMPORTANCE:1
CLASS:PUBLIC
END:VEVENT
END:VCALENDAR
