BEGIN:VCALENDAR
PRODID:-//kirchenweb.ch gmbh//veranstaltungsausgabe v2.0//DE
VERSION:2.0
METHOD:PUBLISH
BEGIN:VEVENT
DTSTART:20260223T183000Z
DTEND:20260223T203000Z
LOCATION:Berufsbildungszentrum Schaffhausen (BBZ)\, \,
TRANSP:OPAQUE
SEQUENCE:0
UID:195050-veranstaltung@ref-sh.ch
DTSTAMP:20260223T162401Z
DESCRIPTION:Im Rahmen unseres Umwelt-Programms 2026 „» Grüner
  Güggel“ zum Thema „Ressourcenschonende Ernährung – Vermeidung von
  Food-Waste“ möchten wir auf folgende Veranstaltung von SHnat
  hinweisen. \n\nWie beeinflusst Ekel unser Essverhalten? Jeanine Ammann
  zeigt\, wie wir Food Waste vermeiden können.\n\nZeit & Ort\n23. Feb.
  2026\, 19:30\n\nSchaffhausen\, Hintersteig 12\, 8200 Schaffhausen\,
  Schweiz\n\nÜber die Veranstaltung\nJeanine Ammann ist
  Lebensmittelwissenschaftlerin und hat sich ihrem Doktorat auf
  Konsumentenforschung (Fokusthema Ekel) spezialisiert. Sie forscht bei
  Agroscope zum Thema Nachhaltigkeit (z.B. Food Waste oder Tierwohl).\n\n\n
 \nEkel ist eine starke Emotion. Jeanine Ammann erforscht die Auswirkungen
  von Ekel auf das menschliche Ess-Verhalten. Welchen Einfluss hat die
  Emotion auf die grosse Menge von Lebensmitteln\, die täglich entsorgt
  werden (Food Waste)? Die Referentin lässt die Zuhörerinnen und Zuhörer
  ihre persönliche Ekel-Sensibilität erforschen und gibt Tipps zum
  Vermeiden von Lebensmittelverschwendung.\n
 \nhttps://www.sh-nat.ch/details-registrierung/wie-hangen-ekel-und-food-was
 te-zusammen\n\nKontakt:
  https://www.sh-nat.ch/details-registrierung/wie-hangen-ekel-und-food-wast
 e-zusammen \n\nWeitere Infos: https://www.ref-sh.ch/veranstaltung/195050
SUMMARY:Wie hängen Ekel und Food Waste zusammen?
PRIORITY:5
X-MICROSOFT-CDO-IMPORTANCE:1
CLASS:PUBLIC
END:VEVENT
END:VCALENDAR
