BEGIN:VCALENDAR
PRODID:-//kirchenweb.ch gmbh//veranstaltungsausgabe v2.0//DE
VERSION:2.0
METHOD:PUBLISH
BEGIN:VEVENT
DTSTART:20260325T140000Z
DTEND:20260325T160000Z
LOCATION:HofAckerZentrum\, Alpenstrasse 176\, 8203 Schaffhausen
TRANSP:OPAQUE
SEQUENCE:0
UID:195047-veranstaltung@ref-sh.ch
DTSTAMP:20260319T091207Z
DESCRIPTION:Kafi Intermezzo im März – Zeit\nZeit begleitet uns
  täglich: Sie rinnt\, drängt\, schenkt Augenblicke und Erinnerungen. Im
  März lädt das Kafi Intermezzo zu einer kleinen Auszeit ein – zum
  Innehalten\, Zuhören und Verweilen.\nLieder und ausgewählte Texte
  kreisen um das Thema Zeit und öffnen Raum für Gedanken und Gefühle.
  Danach bleibt Zeit für Begegnung bei Kaffee und Kuchen. Mit Adriana Di
  Cesare\, Gesang\, und Carlos Greull\, Klavier. \nEin Nachmittag für Herz
  und Sinne – herzlich willkommen.\n\nKontakt: Adriana Di Cesare\n
 \nWeitere Infos: https://www.ref-sh.ch/veranstaltung/195047
SUMMARY:Kafi Intermezzo
PRIORITY:5
X-MICROSOFT-CDO-IMPORTANCE:1
CLASS:PUBLIC
END:VEVENT
END:VCALENDAR
