BEGIN:VCALENDAR
PRODID:-//kirchenweb.ch gmbh//veranstaltungsausgabe v2.0//DE
VERSION:2.0
METHOD:PUBLISH
BEGIN:VEVENT
DTSTART:20271217T170000Z
DTEND:20271217T173000Z
LOCATION:Münster\, Münsterplatz\, 8200 Schaffhausen
TRANSP:OPAQUE
SEQUENCE:0
UID:195028-veranstaltung@ref-sh.ch
DTSTAMP:20260201T163031Z
DESCRIPTION:Die Zeit vor Weihnachten ist eine Zeit der Besinnung\, der
  Musik\, der Geschichten. Geniessen Sie abseits des hektischen Treibens in
  den Geschäftshäusern an drei Freitagabenden um 18 Uhr bei Kerzenschein
  eine halbe Stunde des Innehaltens im Münster. Umrahmt von
  weihnachtlicher Musik steht im Zentrum eine passende Geschichte\, welche
  jeweils eine Pfarrperson der Gemeinde St. Johann-Münster mitbringt und
  vorliest. Fürs leibliche Wohl zum Aufwärmen wird an der Münstertheke
  mit freien heissen Getränken gesorgt.\n\nKontakt: Andreas Jud\n\nWeitere
  Infos: https://www.ref-sh.ch/veranstaltung/195028
SUMMARY:Advent im Münster
PRIORITY:5
X-MICROSOFT-CDO-IMPORTANCE:1
CLASS:PUBLIC
END:VEVENT
END:VCALENDAR
