BEGIN:VCALENDAR
PRODID:-//kirchenweb.ch gmbh//veranstaltungsausgabe v2.0//DE
VERSION:2.0
METHOD:PUBLISH
BEGIN:VEVENT
DTSTART:20270214T090000Z
DTEND:20270214T100000Z
LOCATION:Kirche Herblingen\, Chileweg\, 8207 Schaffhausen
TRANSP:OPAQUE
SEQUENCE:0
UID:195026-veranstaltung@ref-sh.ch
DTSTAMP:20260201T163030Z
DESCRIPTION:Kontakt: Pfr. Peter Vogelsanger\n\nWeitere Infos:
  https://www.ref-sh.ch/veranstaltung/195026
SUMMARY:Valentinsfeier & Gottesdienst
PRIORITY:5
X-MICROSOFT-CDO-IMPORTANCE:1
CLASS:PUBLIC
END:VEVENT
END:VCALENDAR
