BEGIN:VCALENDAR
PRODID:-//kirchenweb.ch gmbh//veranstaltungsausgabe v2.0//DE
VERSION:2.0
METHOD:PUBLISH
BEGIN:VEVENT
DTSTART:20270303T130000Z
DTEND:20270303T160000Z
LOCATION:Trülli Saal\, Trüllenbuck 61\, 8207 Schaffhausen
TRANSP:OPAQUE
SEQUENCE:0
UID:194912-veranstaltung@ref-sh.ch
DTSTAMP:20260128T163033Z
DESCRIPTION:Jassen und andere Spiele dazwischen gemütliches Beisammensein
  bei Kaffee und Kuchen.\n\nKontakt: Béatrice Zingg\n\nWeitere Infos:
  https://www.ref-sh.ch/veranstaltung/194912
SUMMARY:Spielnachmittag
PRIORITY:5
X-MICROSOFT-CDO-IMPORTANCE:1
CLASS:PUBLIC
END:VEVENT
END:VCALENDAR
