BEGIN:VCALENDAR
PRODID:-//kirchenweb.ch gmbh//veranstaltungsausgabe v2.0//DE
VERSION:2.0
METHOD:PUBLISH
BEGIN:VEVENT
DTSTART:20260513T070000Z
DTEND:20260513T093000Z
LOCATION:Pfarrhaussaal\, Im Chloster 1\, 8214 Gächlingen
TRANSP:OPAQUE
SEQUENCE:0
UID:194852-veranstaltung@ref-sh.ch
DTSTAMP:20260127T163016Z
DESCRIPTION:In gemütlicher Runde bei einem Kaffee oder Tee Stricken\,
  Häkeln und vieles mehr. \nKomm vorbei und schau rein.\n\nKontakt:
  Susanne Ryser\n\nWeitere Infos:
  https://www.ref-sh.ch/veranstaltung/194852
SUMMARY:Handarbeitsplausch
PRIORITY:5
X-MICROSOFT-CDO-IMPORTANCE:1
CLASS:PUBLIC
END:VEVENT
END:VCALENDAR
