BEGIN:VCALENDAR
PRODID:-//kirchenweb.ch gmbh//veranstaltungsausgabe v2.0//DE
VERSION:2.0
METHOD:PUBLISH
BEGIN:VEVENT
DTSTART:20260218T173000Z
DTEND:20260218T193000Z
LOCATION:Steigsaal\, Nordstrasse 33\, 8200 Schaffhausen
TRANSP:OPAQUE
SEQUENCE:0
UID:194804-veranstaltung@ref-sh.ch
DTSTAMP:20260211T134841Z
DESCRIPTION:Seit Sommer 2025 arbeiten drei Arbeitsgruppen im Auftrag des
  «Postulats Alder» an den zentralen Fragen eines möglichen
  Zusammenschlusses der vier Verbandskirchgemeinden. An unserem
  öffentlichen Resonanzanlass für alle Kirchgemeindemitglieder und
  Freiwillig Engagierte unserer Kirchgemeinden möchten wir Sie über den
  aktuellen Projektstand informieren und diesen gemeinsam mit Ihnen
  diskutieren:\n\nMittwoch\, 18. Februar 2026\, 18.30 Uhr\, Saal
  Steigkirche Schaffhausen\nIm Anschluss Apéro.\n\nKontakt: Susanne
  Müller\n\nWeitere Infos: https://www.ref-sh.ch/veranstaltung/194804
SUMMARY:Öffentliche Veranstaltung Zukunft Stadtkirchen
PRIORITY:5
X-MICROSOFT-CDO-IMPORTANCE:1
CLASS:PUBLIC
END:VEVENT
END:VCALENDAR
