BEGIN:VCALENDAR
PRODID:-//kirchenweb.ch gmbh//veranstaltungsausgabe v2.0//DE
VERSION:2.0
METHOD:PUBLISH
BEGIN:VEVENT
DTSTART:20260211T173000Z
DTEND:20260211T193000Z
LOCATION:HofAckerZentrum\, Alpenstrasse 176\, 8200 Schaffhausen
TRANSP:OPAQUE
SEQUENCE:0
UID:194803-veranstaltung@ref-sh.ch
DTSTAMP:20260211T133807Z
DESCRIPTION:Seit Sommer 2025 arbeiten drei Arbeitsgruppen im Auftrag des
  «Postulats Alder» an den zentralen Fragen eines möglichen
  Zusammenschlusses der vier Verbandskirchgemeinden. An unserem
  öffentlichen Resonanzanlass für alle Kirchgemeindemitglieder und
  Freiwillig Engagierte unserer Kirchgemeinden möchten wir Sie über den
  aktuellen Projektstand informieren und diesen gemeinsam mit Ihnen
  diskutieren:\n\nMittwoch\, 11. Februar 2026\, 18\,30 Uhr\,
  Hofackerzentrum Schaffhausen\nIm Anschluss Apéro.\n\n\n\nKontakt:
  Susanne Müller\n\nWeitere Infos:
  https://www.ref-sh.ch/veranstaltung/194803
SUMMARY:Öffentliche Veranstaltung Zukunft Stadtkirchen
PRIORITY:5
X-MICROSOFT-CDO-IMPORTANCE:1
CLASS:PUBLIC
END:VEVENT
END:VCALENDAR
