BEGIN:VCALENDAR
PRODID:-//kirchenweb.ch gmbh//veranstaltungsausgabe v2.0//DE
VERSION:2.0
METHOD:PUBLISH
BEGIN:VEVENT
DTSTART:20260227T110000Z
DTEND:20260227T130000Z
LOCATION:Pfarrhaussaal\, Im Chloster 1\, 8214 Gächlingen
TRANSP:OPAQUE
SEQUENCE:0
UID:194709-veranstaltung@ref-sh.ch
DTSTAMP:20260225T184641Z
DESCRIPTION:Zmittag der Kirchgemeinde\, eingeladen sind alle\, die
  irgendwo mitmachen.\nKeine Anmeldung nötig (wer sich trotzdem anmelden
  möchte\, schreibe an https://ruediger.schlunke@ref-sh.ch)\nKeine Kosten
  (einfaches Mittagessen\, offeriert von der Kirchgemeinde)\nKinder sind
  willkommen\nAb 12 Uhr kann man kommen\, auch später noch kann man
  dazustossen.\n\nWarum der "Zäme Zmittag"?\n«Rede mitenand» wird
  entscheiden\, ob das Projekt http://www.ref-gaechlingen.ch/netzwerkkirche
  gelingt oder nicht: eine selbständige\, lebendig Kirchgemeinde in
  Gächlingen auch in Zukunft. \nOhne gute Kommunikation wird die
  dynamischere\, organischere und flexiblere Gestaltung des
  Kirchgemeinde-Lebens nicht funktionieren. Dieses «Rede-mitenand» ist
  nicht ausgeklügelte Chat-Gruppen-Organisation oder Mail-Hierarchie.
  «Rede-mitenand» ist ganz einfach persönlicher Kontakt und freier
  Austausch. Bei einem ungezwungenen Zmittag geht das besonders gut. 
 \nHerzlich willkommen!\n\nKontakt:  Philippe Niklaus kocht\n\nWeitere
  Infos: https://www.ref-sh.ch/veranstaltung/194709
SUMMARY:Zäme Zmittag
PRIORITY:5
X-MICROSOFT-CDO-IMPORTANCE:1
CLASS:PUBLIC
END:VEVENT
END:VCALENDAR
