BEGIN:VCALENDAR
PRODID:-//kirchenweb.ch gmbh//veranstaltungsausgabe v2.0//DE
VERSION:2.0
METHOD:PUBLISH
BEGIN:VEVENT
DTSTART:20260328T080000Z
DTEND:20260328T120000Z
LOCATION:Saal der Steigkirche Schaffhausen\, Nordstrasse 33\, 8200
  Schaffhausen
TRANSP:OPAQUE
SEQUENCE:0
UID:194656-veranstaltung@ref-sh.ch
DTSTAMP:20260126T084523Z
DESCRIPTION:Für alle Schüler:innen der 5. und 6. Klasse\n\nDer Vormittag
  beinhaltet 4 Module inkl. Pausen/Znüni\n\n«Letzte Hilfe ist so wichtig
  wie Erste Hilfe»\n\nKinder und Jugendliche begegnen Krankheit und
  Sterben im Alltag und möchten darüber sprechen\, meist fehlt aber die
  Gelegenheit. Für viele Menschen ist der Tod ein Tabuthema.\n\nUnsere
  Letzte Hilfe Kurse für Kids und Teens bieten altersgerechte
  Informationen und Austausch\, um Ängste zu reduzieren\, Sicherheit zu
  gewinnen und gesellschaftliches Engagement zu fördern.\n\nDer Kurs
  vermittelt interaktiv\, spielerisch und praktisch Basiswissen und
  Orientierung rund um’s Thema «Sterben». Nach abgeschlossenem Kurs
  erhalten die Teilnehmenden ein Zertifikat.\n\nDie Kursteilnehmenden\n
  kennen mögliche Beschwerden bei einem Sterbeprozess\n können Hilfe
  leisten\n wissen um die Vielfalt der Gefühle in diesem Prozess\n
  kennen ihre eigenen Möglichkeiten und Grenzen\n kennen mögliche
  Verläufe und hilfreiche Rituale in der Trauer\n\nAnmeldefrist \nBis am
  6.3.2026 bei chttps://claudia.henne@ref-sh.ch\nLeitung Claudia Henne\,
  Pfarrerin / Nicole Acklin\, Palliative Nurse\n\nMehr Infos
  https://www.ref-sh.ch/letzte-hilfe-kids-und-teens\n\nMindestgrösse Der
  Kurs findet statt bei mind. 5 Anmeldungen\n\nKosten Für Teilnehmende ist
  der Kurs kostenlos\n\nSchüler:innen der Steigkirche dürfen diesen Kurs
  anrechnen an die erforderliche Anzahl an Gottesdiensten pro Jahr
  (entspricht 3 GDs).\n\nKontakt: Claudia Henne\, Nicole Acklin\n\nWeitere
  Infos: https://www.ref-sh.ch/veranstaltung/194656
SUMMARY:Letzte Hilfe Kurs für Kids
PRIORITY:5
X-MICROSOFT-CDO-IMPORTANCE:1
CLASS:PUBLIC
END:VEVENT
END:VCALENDAR
