BEGIN:VCALENDAR
PRODID:-//kirchenweb.ch gmbh//veranstaltungsausgabe v2.0//DE
VERSION:2.0
METHOD:PUBLISH
BEGIN:VEVENT
DTSTART:20261209T073000Z
DTEND:20261209T100000Z
LOCATION:Pfarrhaussäli Wilchingen\, Zinggenstrasse 28\, 8217 Wilchingen
TRANSP:OPAQUE
SEQUENCE:0
UID:194469-veranstaltung@ref-sh.ch
DTSTAMP:20260116T203322Z
DESCRIPTION:Kontakt: Pfr. Stefan Leistner\n\nWeitere Infos:
  https://www.ref-sh.ch/veranstaltung/194469
SUMMARY:Klettgauer Kapitel
PRIORITY:5
X-MICROSOFT-CDO-IMPORTANCE:1
CLASS:PUBLIC
END:VEVENT
END:VCALENDAR
