BEGIN:VCALENDAR
PRODID:-//kirchenweb.ch gmbh//veranstaltungsausgabe v2.0//DE
VERSION:2.0
METHOD:PUBLISH
BEGIN:VEVENT
DTSTART:20261029T073000Z
DTEND:20261029T100000Z
LOCATION:Siblingen\, Grütli\, Haupstrasse 59\, 8225 Siblingen
TRANSP:OPAQUE
SEQUENCE:0
UID:194466-veranstaltung@ref-sh.ch
DTSTAMP:20260116T163754Z
DESCRIPTION:Kontakt: Pfr. James Liebmann\n\nWeitere Infos:
  https://www.ref-sh.ch/veranstaltung/194466
SUMMARY:Klettgauer Kapitel
PRIORITY:5
X-MICROSOFT-CDO-IMPORTANCE:1
CLASS:PUBLIC
END:VEVENT
END:VCALENDAR
