BEGIN:VCALENDAR
PRODID:-//kirchenweb.ch gmbh//veranstaltungsausgabe v2.0//DE
VERSION:2.0
METHOD:PUBLISH
BEGIN:VEVENT
DTSTART:20260910T063000Z
DTEND:20260910T090000Z
LOCATION:Kirchgemeindehaus Neuhausen\, Zentralstr. 32\, 8212 Neuhausen am
  Rheinfall
TRANSP:OPAQUE
SEQUENCE:0
UID:194463-veranstaltung@ref-sh.ch
DTSTAMP:20260116T104552Z
DESCRIPTION:Kontakt: Pfr. Matthias Koch\n\nWeitere Infos:
  https://www.ref-sh.ch/veranstaltung/194463
SUMMARY:Klettgauer Kapitel
PRIORITY:5
X-MICROSOFT-CDO-IMPORTANCE:1
CLASS:PUBLIC
END:VEVENT
END:VCALENDAR
