BEGIN:VCALENDAR
PRODID:-//kirchenweb.ch gmbh//veranstaltungsausgabe v2.0//DE
VERSION:2.0
METHOD:PUBLISH
BEGIN:VEVENT
DTSTART:20300228T071500Z
DTEND:20300228T140000Z
LOCATION:Ort noch offen\, \, 8200 Schaffhausen
TRANSP:OPAQUE
SEQUENCE:0
UID:194329-veranstaltung@ref-sh.ch
DTSTAMP:20260115T143538Z
DESCRIPTION:Kontakt: Pfr. Peter Vogelsanger\n\nWeitere Infos:
  https://www.ref-sh.ch/veranstaltung/194329
SUMMARY:Konvent
PRIORITY:5
X-MICROSOFT-CDO-IMPORTANCE:1
CLASS:PUBLIC
END:VEVENT
END:VCALENDAR
