BEGIN:VCALENDAR
PRODID:-//kirchenweb.ch gmbh//veranstaltungsausgabe v2.0//DE
VERSION:2.0
METHOD:PUBLISH
BEGIN:VEVENT
DTSTART:20261127T130000Z
DTEND:20261127T153000Z
LOCATION:HofAckerZentrum\, Alpenstrasse 176\, 8203 Schaffhausen
TRANSP:OPAQUE
SEQUENCE:0
UID:194303-veranstaltung@ref-sh.ch
DTSTAMP:20260115T082722Z
DESCRIPTION:Kontakt: Nadja und Vanessa\n\nWeitere Infos:
  https://www.ref-sh.ch/veranstaltung/194303
SUMMARY:Mir mit eu z`Buechthale
PRIORITY:5
X-MICROSOFT-CDO-IMPORTANCE:1
CLASS:PUBLIC
END:VEVENT
END:VCALENDAR
