BEGIN:VCALENDAR
PRODID:-//kirchenweb.ch gmbh//veranstaltungsausgabe v2.0//DE
VERSION:2.0
METHOD:PUBLISH
BEGIN:VEVENT
DTSTART:20260530T070000Z
DTEND:20260530T071500Z
LOCATION:Kirche Wilchingen\, Zinggenstrasse 28\, 8217 Wilchingen
TRANSP:OPAQUE
SEQUENCE:0
UID:194285-veranstaltung@ref-sh.ch
DTSTAMP:20260114T221025Z
DESCRIPTION:Kontakt: Stefan Leistner Baumgardt\n\nWeitere Infos:
  https://www.ref-sh.ch/veranstaltung/194285
SUMMARY:KU - Beginn in der Kirche
PRIORITY:5
X-MICROSOFT-CDO-IMPORTANCE:1
CLASS:PUBLIC
END:VEVENT
END:VCALENDAR
