BEGIN:VCALENDAR
PRODID:-//kirchenweb.ch gmbh//veranstaltungsausgabe v2.0//DE
VERSION:2.0
METHOD:PUBLISH
BEGIN:VEVENT
DTSTART:20260613T110000Z
DTEND:20260613T120000Z
LOCATION:Kirche Wilchingen\, Zinggenstrasse 28\, 8217 Wilchingen
TRANSP:OPAQUE
SEQUENCE:0
UID:194284-veranstaltung@ref-sh.ch
DTSTAMP:20260114T220645Z
DESCRIPTION:Kontakt: Stefan Leistner Baumgardt\n\nWeitere Infos:
  https://www.ref-sh.ch/veranstaltung/194284
SUMMARY:Jugendprojekt Abschluss in der Kirche
PRIORITY:5
X-MICROSOFT-CDO-IMPORTANCE:1
CLASS:PUBLIC
END:VEVENT
END:VCALENDAR
