BEGIN:VCALENDAR
PRODID:-//kirchenweb.ch gmbh//veranstaltungsausgabe v2.0//DE
VERSION:2.0
METHOD:PUBLISH
BEGIN:VEVENT
DTSTART:20260613T070000Z
DTEND:20260613T120000Z
LOCATION:--\, \,
TRANSP:OPAQUE
SEQUENCE:0
UID:194282-veranstaltung@ref-sh.ch
DTSTAMP:20260114T220431Z
DESCRIPTION:Kontakt: Stefan Leistner Baumgardt\n\nWeitere Infos:
  https://www.ref-sh.ch/veranstaltung/194282
SUMMARY:Jugendprojekt "Psalm 23"
PRIORITY:5
X-MICROSOFT-CDO-IMPORTANCE:1
CLASS:PUBLIC
END:VEVENT
END:VCALENDAR
