BEGIN:VCALENDAR
PRODID:-//kirchenweb.ch gmbh//veranstaltungsausgabe v2.0//DE
VERSION:2.0
METHOD:PUBLISH
BEGIN:VEVENT
DTSTART:20260607T103000Z
DTEND:20260607T110000Z
LOCATION:Kirche\, Kirchstrasse 8\, 8214 Gächlingen
TRANSP:OPAQUE
SEQUENCE:0
UID:194258-veranstaltung@ref-sh.ch
DTSTAMP:20260415T075115Z
DESCRIPTION:Die neuesten Infos zum Projekt Gächlinger Netzwerkkirche.
 \nAnschliessend sind alle zur Grillziit eingeladen.\n\nKontakt:
  werner.naef@ref-sh.ch\n\nWeitere Infos:
  https://www.ref-sh.ch/veranstaltung/194258
SUMMARY:Kirchenwoche: Info-Apéro Projekt Gächlinger Netzwerkkirche
PRIORITY:5
X-MICROSOFT-CDO-IMPORTANCE:1
CLASS:PUBLIC
END:VEVENT
END:VCALENDAR
