BEGIN:VCALENDAR
PRODID:-//kirchenweb.ch gmbh//veranstaltungsausgabe v2.0//DE
VERSION:2.0
METHOD:PUBLISH
BEGIN:VEVENT
DTSTART:20260917T170000Z
DTEND:20260917T200000Z
LOCATION:Pfarrhaussaal\, Im Chloster 1\, 8214 Gächlingen
TRANSP:OPAQUE
SEQUENCE:0
UID:194257-veranstaltung@ref-sh.ch
DTSTAMP:20260119T174140Z
DESCRIPTION:Thema noch nicht festgelegt (Stand 13.01.2026)\n\nKontakt:
  Philippe Niklaus\n\nWeitere Infos:
  https://www.ref-sh.ch/veranstaltung/194257
SUMMARY:4. Themenabend Gächlinger Netzwerkkirche
PRIORITY:5
X-MICROSOFT-CDO-IMPORTANCE:1
CLASS:PUBLIC
END:VEVENT
END:VCALENDAR
