BEGIN:VCALENDAR
PRODID:-//kirchenweb.ch gmbh//veranstaltungsausgabe v2.0//DE
VERSION:2.0
METHOD:PUBLISH
BEGIN:VEVENT
DTSTART:20261206T160000Z
DTEND:20261206T173000Z
LOCATION:Kirche\, Kirchgasse\, 8226 Schleitheim
TRANSP:OPAQUE
SEQUENCE:0
UID:194248-veranstaltung@ref-sh.ch
DTSTAMP:20260126T084730Z
DESCRIPTION:Dixieland\, Gospel und Swing\n\nDie evangelisch-reformierte
  Kirche in Schleitheim verwandelt sich in eine festliche Bühne für ein
  musikalisches Programm\, das die Herzen erwärmt und die Vorfreude auf
  Weihnachten weckt.\n\nMit einer bunten Mischung aus Gospel\, Dixieland
  und Swing präsentiert die Band - bestehend aus sechs erfahrenen Musikern
  aus dem Grossraum Schaffhausen - ein Konzert\, das sowohl langjährige
  Fans als auch neue Zuhörer begeistern wird und einen unvergesslichen
  Auftakt in die Weihnachtszeit bietet.\n\nFreuen Sie sich auf einen
  stimmungsvollen Abend mit speziell für die Adventszeit ausgewählten
  Titeln!\n\nEintritt frei\, Kollekte\n\nKontakt: Walter Hotz\n\nWeitere
  Infos: https://www.ref-sh.ch/veranstaltung/194248
SUMMARY:Adventskonzert der Munot Dixie Stompers
PRIORITY:5
X-MICROSOFT-CDO-IMPORTANCE:1
CLASS:PUBLIC
END:VEVENT
END:VCALENDAR
