BEGIN:VCALENDAR
PRODID:-//kirchenweb.ch gmbh//veranstaltungsausgabe v2.0//DE
VERSION:2.0
METHOD:PUBLISH
BEGIN:VEVENT
DTSTART:20260610T150000Z
DTEND:20260610T190000Z
LOCATION:Mesmerhaus Löhningen\, \,
TRANSP:OPAQUE
SEQUENCE:0
UID:194218-veranstaltung@ref-sh.ch
DTSTAMP:20260112T173943Z
DESCRIPTION:Kontakt: zoe.werner@ref-sh.ch\n\nWeitere Infos:
  https://www.ref-sh.ch/veranstaltung/194218
SUMMARY:Rückblick Musical
PRIORITY:5
X-MICROSOFT-CDO-IMPORTANCE:1
CLASS:PUBLIC
END:VEVENT
END:VCALENDAR
