BEGIN:VCALENDAR
PRODID:-//kirchenweb.ch gmbh//veranstaltungsausgabe v2.0//DE
VERSION:2.0
METHOD:PUBLISH
BEGIN:VEVENT
DTSTART:20260530T070000Z
DTEND:20260530T091500Z
LOCATION:Pfarrhofraum Wilchingen\, Zinggenstrasse 28\, 8217 Wilchingen
TRANSP:OPAQUE
SEQUENCE:0
UID:194208-veranstaltung@ref-sh.ch
DTSTAMP:20260112T075542Z
DESCRIPTION:Kontakt: Doris Theiler\n\nWeitere Infos:
  https://www.ref-sh.ch/veranstaltung/194208
SUMMARY:3. und 4.- Klass- Unti - Abschluss
PRIORITY:5
X-MICROSOFT-CDO-IMPORTANCE:1
CLASS:PUBLIC
END:VEVENT
END:VCALENDAR
