BEGIN:VCALENDAR
PRODID:-//kirchenweb.ch gmbh//veranstaltungsausgabe v2.0//DE
VERSION:2.0
METHOD:PUBLISH
BEGIN:VEVENT
DTSTART:20260113T180000Z
DTEND:20260113T200000Z
LOCATION:Kirchgemeinderaum Adler\, Dorfstrasse 32\, 8240 Thayngen
TRANSP:OPAQUE
SEQUENCE:0
UID:194199-veranstaltung@ref-sh.ch
DTSTAMP:20260110T181644Z
DESCRIPTION:Kontakt: Jürgen Will\n\nWeitere Infos:
  https://www.ref-sh.ch/veranstaltung/194199
SUMMARY:Hauskreisleitertreffen
PRIORITY:5
X-MICROSOFT-CDO-IMPORTANCE:1
CLASS:PUBLIC
END:VEVENT
END:VCALENDAR
