BEGIN:VCALENDAR
PRODID:-//kirchenweb.ch gmbh//veranstaltungsausgabe v2.0//DE
VERSION:2.0
METHOD:PUBLISH
BEGIN:VEVENT
DTSTART:20260510T074500Z
DTEND:20260510T090000Z
LOCATION:Kirchgemeindehaus Beringen\, Steig 2\, 8222 Beringen
TRANSP:OPAQUE
SEQUENCE:0
UID:194110-veranstaltung@ref-sh.ch
DTSTAMP:20260109T110253Z
DESCRIPTION:Kontakt: Manuela Furrer\n\nWeitere Infos:
  https://www.ref-sh.ch/veranstaltung/194110
SUMMARY:Sonntagschule
PRIORITY:5
X-MICROSOFT-CDO-IMPORTANCE:1
CLASS:PUBLIC
END:VEVENT
END:VCALENDAR
