BEGIN:VCALENDAR
PRODID:-//kirchenweb.ch gmbh//veranstaltungsausgabe v2.0//DE
VERSION:2.0
METHOD:PUBLISH
BEGIN:VEVENT
DTSTART:20260603T100000Z
DTEND:20260603T110000Z
LOCATION:Kirchgemeindehaus Burg\, Burg 3\, 8260 Stein am Rhein
TRANSP:OPAQUE
SEQUENCE:0
UID:194049-veranstaltung@ref-sh.ch
DTSTAMP:20260331T090918Z
DESCRIPTION:Aufgrund von Renovationsarbeiten im Kirchgemeindehaus kann der
  Mittagstisch im Juni leider nicht stattfinden. \n\n\nKontakt: Gabriela
  Quinter\n\nWeitere Infos: https://www.ref-sh.ch/veranstaltung/194049
SUMMARY:ABGESAGT: Seniorenmittagstisch
PRIORITY:5
X-MICROSOFT-CDO-IMPORTANCE:1
CLASS:PUBLIC
END:VEVENT
END:VCALENDAR
