BEGIN:VCALENDAR
PRODID:-//kirchenweb.ch gmbh//veranstaltungsausgabe v2.0//DE
VERSION:2.0
METHOD:PUBLISH
BEGIN:VEVENT
DTSTART:20261129T160000Z
DTEND:20261129T180000Z
LOCATION:St.Johann\, Kirchhofplatz\, 8200 Schaffhausen
TRANSP:OPAQUE
SEQUENCE:0
UID:194021-veranstaltung@ref-sh.ch
DTSTAMP:20260107T153707Z
DESCRIPTION:Kontakt: Sekretariat St.Johann-Münster\n\nWeitere Infos:
  https://www.ref-sh.ch/veranstaltung/194021
SUMMARY:Stadtharmonie Highlights
PRIORITY:5
X-MICROSOFT-CDO-IMPORTANCE:1
CLASS:PUBLIC
END:VEVENT
END:VCALENDAR
